BEGIN:VCALENDAR
VERSION:2.0
PRODID:-//Beal International - ECPv5.0.3.1//NONSGML v1.0//EN
CALSCALE:GREGORIAN
METHOD:PUBLISH
X-WR-CALNAME:Beal International
X-ORIGINAL-URL:https://bealinternational.com
X-WR-CALDESC:Évènements pour Beal International
BEGIN:VTIMEZONE
TZID:Europe/Brussels
BEGIN:DAYLIGHT
TZOFFSETFROM:+0100
TZOFFSETTO:+0200
TZNAME:CEST
DTSTART:20200329T010000
END:DAYLIGHT
BEGIN:STANDARD
TZOFFSETFROM:+0200
TZOFFSETTO:+0100
TZNAME:CET
DTSTART:20201025T010000
END:STANDARD
TZID:Europe/Helsinki
BEGIN:DAYLIGHT
TZOFFSETFROM:+0200
TZOFFSETTO:+0300
TZNAME:EEST
DTSTART:20200329T010000
END:DAYLIGHT
BEGIN:STANDARD
TZOFFSETFROM:+0300
TZOFFSETTO:+0200
TZNAME:EET
DTSTART:20201025T010000
END:STANDARD
END:VTIMEZONE
BEGIN:VEVENT
DTSTART;TZID=Europe/Brussels:20200403T090000
DTEND;TZID=Europe/Brussels:20200403T170000
DTSTAMP:20200421T150154
CREATED:20200123T133911Z
LAST-MODIFIED:20200316T074021Z
UID:18282-1585904400-1585933200@bealinternational.com
SUMMARY:ANNULEE - Mortex: Initiation (NL) Verschuere (Harelbeke)
DESCRIPTION:Théorie: présentation des produits de la gamme MORTEX\, théorie de base pour préparation chantier et supports. Règles de dosage et de mélange. Théorie de base de l’application et des protections.\nPratique: apprentissage des techniques « à Secco » et « à Fresco »\, technique du ferrage. Applications verticales et horizontales. Réalisation de plaques échantillons à emporter. \n
URL:https://bealinternational.com/fr/formation/annulee-mortex-initiation-nl-verschuere-harelbeke-03-04-2020/
LOCATION:Verschuere (Harelbeke)\, Overleiestraat 3\, Harelbeke\, 8530\, Belgique
CATEGORIES:Mortex
ORGANIZER;CN="BEAL%20International":MAILTO:training@beal.be
GEO:50.8577372;3.3091037
X-APPLE-STRUCTURED-LOCATION;VALUE=URI;X-ADDRESS=Verschuere (Harelbeke) Overleiestraat 3 Harelbeke 8530 Belgique;X-APPLE-RADIUS=500;X-TITLE=Overleiestraat 3:geo:3.3091037,50.8577372
END:VEVENT
BEGIN:VEVENT
DTSTART;TZID=Europe/Brussels:20200404T090000
DTEND;TZID=Europe/Brussels:20200404T170000
DTSTAMP:20200421T150154
CREATED:20200123T131414Z
LAST-MODIFIED:20200316T074111Z
UID:18267-1585990800-1586019600@bealinternational.com
SUMMARY:ANNULEE - Mortex: Initiation (NL) Verschuere (Harelbeke)
DESCRIPTION:Théorie: présentation des produits de la gamme MORTEX\, théorie de base pour préparation chantier et supports. Règles de dosage et de mélange. Théorie de base de l’application et des protections.\nPratique: apprentissage des techniques « à Secco » et « à Fresco »\, technique du ferrage. Applications verticales et horizontales. Réalisation de plaques échantillons à emporter.plakspaan polijsten. Verticale en horizontale toepassingen. Realisatie van monsterplaten om mee te nemen. \n
URL:https://bealinternational.com/fr/formation/annulee-mortex-initiation-nl-verschuere-harelbeke-04-04-2020/
LOCATION:Verschuere (Harelbeke)\, Overleiestraat 3\, Harelbeke\, 8530\, Belgique
CATEGORIES:Mortex
ORGANIZER;CN="BEAL%20International":MAILTO:training@beal.be
GEO:50.8577372;3.3091037
X-APPLE-STRUCTURED-LOCATION;VALUE=URI;X-ADDRESS=Verschuere (Harelbeke) Overleiestraat 3 Harelbeke 8530 Belgique;X-APPLE-RADIUS=500;X-TITLE=Overleiestraat 3:geo:3.3091037,50.8577372
END:VEVENT
BEGIN:VEVENT
DTSTART;TZID=Europe/Brussels:20200404T090000
DTEND;TZID=Europe/Brussels:20200404T170000
DTSTAMP:20200421T150154
CREATED:20200123T132710Z
LAST-MODIFIED:20200316T074213Z
UID:18276-1585990800-1586019600@bealinternational.com
SUMMARY:ANNULEE - Mortex: Initiation (NL) Verschuere (Harelbeke)
DESCRIPTION:Théorie: présentation des produits de la gamme MORTEX\, théorie de base pour préparation chantier et supports. Règles de dosage et de mélange. Théorie de base de l’application et des protections.\nPratique: apprentissage des techniques « à Secco » et « à Fresco »\, technique du ferrage. Applications verticales et horizontales. Réalisation de plaques échantillons à emporter. \n
URL:https://bealinternational.com/fr/formation/annulee-mortex-initiation-nl-verschuere-harelbeke-04-04-2020-2/
LOCATION:Verschuere (Harelbeke)\, Overleiestraat 3\, Harelbeke\, 8530\, Belgique
CATEGORIES:Mortex
ORGANIZER;CN="BEAL%20International":MAILTO:training@beal.be
GEO:50.8577372;3.3091037
X-APPLE-STRUCTURED-LOCATION;VALUE=URI;X-ADDRESS=Verschuere (Harelbeke) Overleiestraat 3 Harelbeke 8530 Belgique;X-APPLE-RADIUS=500;X-TITLE=Overleiestraat 3:geo:3.3091037,50.8577372
END:VEVENT
BEGIN:VEVENT
DTSTART;TZID=Europe/Helsinki:20200407T090000
DTEND;TZID=Europe/Helsinki:20200407T170000
DTSTAMP:20200421T150154
CREATED:20190218T105316Z
LAST-MODIFIED:20200402T132300Z
UID:12997-1586250000-1586278800@bealinternational.com
SUMMARY:ANNULEE - MORTEX : Initiation (FR) - FULL - COMPLETE - VOLZET
DESCRIPTION:Théorie: présentation des produits de la gamme MORTEX\, théorie de base pour préparation chantier et supports. Règles de dosage et de mélange. Théorie de base de l’application et des protections.\nPratique: apprentissage des techniques “à Secco” et “à Fresco”\, technique du ferrage. Applications verticales et horizontales. Réalisation de plaques échantillons à emporter. \n
URL:https://bealinternational.com/fr/formation/annulee-mortex-initiation-fr-full-complete-volzet-07-04-2020/
LOCATION:BEAL (Fernelmont)\, Rue du Tronquoy\, 8\, Fernelmont\, Namur\, 5380\, Belgium
CATEGORIES:Mortex
ORGANIZER;CN="BEAL%20International":MAILTO:training@beal.be
GEO:50.5382149;4.9770825
X-APPLE-STRUCTURED-LOCATION;VALUE=URI;X-ADDRESS=BEAL (Fernelmont) Rue du Tronquoy 8 Fernelmont Namur 5380 Belgium;X-APPLE-RADIUS=500;X-TITLE=Rue du Tronquoy\, 8:geo:4.9770825,50.5382149
END:VEVENT
BEGIN:VEVENT
DTSTART;TZID=Europe/Helsinki:20200408T090000
DTEND;TZID=Europe/Helsinki:20200408T170000
DTSTAMP:20200421T150154
CREATED:20190219T141840Z
LAST-MODIFIED:20200402T132310Z
UID:13133-1586336400-1586365200@bealinternational.com
SUMMARY:ANNULEE - MORTEX : Salles d’eau (FR)
DESCRIPTION:Théorie : rappel\, types de supports et préparation\, procédure d’installation\, protections et entretien.\nPratique : organisation du travail et mise en œuvre sur modules. \nPREREQUIS: MORTEX Initiation \n
URL:https://bealinternational.com/fr/formation/mortex-salles-deau-fr-09-04-2019/
LOCATION:BEAL (Fernelmont)\, Rue du Tronquoy\, 8\, Fernelmont\, Namur\, 5380\, Belgium
CATEGORIES:Mortex
ORGANIZER;CN="BEAL%20International":MAILTO:training@beal.be
GEO:50.5382149;4.9770825
X-APPLE-STRUCTURED-LOCATION;VALUE=URI;X-ADDRESS=BEAL (Fernelmont) Rue du Tronquoy 8 Fernelmont Namur 5380 Belgium;X-APPLE-RADIUS=500;X-TITLE=Rue du Tronquoy\, 8:geo:4.9770825,50.5382149
END:VEVENT
BEGIN:VEVENT
DTSTART;TZID=Europe/Helsinki:20200409T090000
DTEND;TZID=Europe/Helsinki:20200409T170000
DTSTAMP:20200421T150154
CREATED:20190219T141109Z
LAST-MODIFIED:20200402T132320Z
UID:13120-1586422800-1586451600@bealinternational.com
SUMMARY:ANNULEE - MORTEX : Effets décoratifs (FR)
DESCRIPTION:Théorie: rappel\, types d’effets\, protections.\nPratique: plusieurs effets parmi lesquels : rouille\, oxyde\, bois\, pierre\, moiré lissé… Prérequis: MORTEX initiation \nPREREQUIS: MORTEX Initiation \n
URL:https://bealinternational.com/fr/formation/mortex-effets-decoratifs-fr-09-04-2020/
LOCATION:BEAL (Fernelmont)\, Rue du Tronquoy\, 8\, Fernelmont\, Namur\, 5380\, Belgium
CATEGORIES:Mortex
ORGANIZER;CN="BEAL%20International":MAILTO:training@beal.be
GEO:50.5382149;4.9770825
X-APPLE-STRUCTURED-LOCATION;VALUE=URI;X-ADDRESS=BEAL (Fernelmont) Rue du Tronquoy 8 Fernelmont Namur 5380 Belgium;X-APPLE-RADIUS=500;X-TITLE=Rue du Tronquoy\, 8:geo:4.9770825,50.5382149
END:VEVENT
BEGIN:VEVENT
DTSTART;TZID=Europe/Brussels:20200416T090000
DTEND;TZID=Europe/Brussels:20200416T170000
DTSTAMP:20200421T150154
CREATED:20200207T152638Z
LAST-MODIFIED:20200402T132327Z
UID:18444-1587027600-1587056400@bealinternational.com
SUMMARY:ANNULEE - BEALSTONE : Initiation (NL)
DESCRIPTION:Théorie: présentation des produits de la gamme BEALSTONE\, théorie de base pour préparation chantier et supports. Règles de dosage et de mélange. Théorie de base de l’application et des protections.\nPratique: apprentissage de base des techniques de coulage\, de ponçage/bouche-porage/polissage et de protection avec machines à main. Réalisation d’un échantillon à emporter. \n
URL:https://bealinternational.com/fr/formation/bealstone-initiation-nl-16-04-2020/
LOCATION:BEAL (Fernelmont)\, Rue du Tronquoy\, 8\, Fernelmont\, Namur\, 5380\, Belgium
CATEGORIES:Bealstone
ORGANIZER;CN="BEAL%20International":MAILTO:training@beal.be
GEO:50.5382149;4.9770825
X-APPLE-STRUCTURED-LOCATION;VALUE=URI;X-ADDRESS=BEAL (Fernelmont) Rue du Tronquoy 8 Fernelmont Namur 5380 Belgium;X-APPLE-RADIUS=500;X-TITLE=Rue du Tronquoy\, 8:geo:4.9770825,50.5382149
END:VEVENT
BEGIN:VEVENT
DTSTART;TZID=Europe/Brussels:20200417T080000
DTEND;TZID=Europe/Brussels:20200417T170000
DTSTAMP:20200421T150154
CREATED:20200207T153233Z
LAST-MODIFIED:20200402T132333Z
UID:18451-1587110400-1587142800@bealinternational.com
SUMMARY:ANNULEE - BEALSTONE : spécialisation sols – 3 jours (NL)
DESCRIPTION:Réalisation complète d’un sol de 20m² en groupe restreint\, avec l’assistance et les conseils avisés d’un professionnel\nJour1: 17/04/20\nSéchage 48h pendant le weekend\nJour2: 20/04/20\nJour3: 21/04/20 \nPREREQUIS : Bealstone – Formation Générale \n
URL:https://bealinternational.com/fr/formation/bealstone-specialisation-sols-3-jours-nl-17-04-2020/
LOCATION:BEAL (Fernelmont)\, Rue du Tronquoy\, 8\, Fernelmont\, Namur\, 5380\, Belgium
CATEGORIES:Bealstone
ORGANIZER;CN="BEAL%20International":MAILTO:training@beal.be
GEO:50.5382149;4.9770825
X-APPLE-STRUCTURED-LOCATION;VALUE=URI;X-ADDRESS=BEAL (Fernelmont) Rue du Tronquoy 8 Fernelmont Namur 5380 Belgium;X-APPLE-RADIUS=500;X-TITLE=Rue du Tronquoy\, 8:geo:4.9770825,50.5382149
END:VEVENT
BEGIN:VEVENT
DTSTART;TZID=Europe/Helsinki:20200418T090000
DTEND;TZID=Europe/Helsinki:20200418T160000
DTSTAMP:20200421T150154
CREATED:20180713T094517Z
LAST-MODIFIED:20200402T132402Z
UID:10730-1587200400-1587225600@bealinternational.com
SUMMARY:ANNULEE - Mortex : Effets décoratifs (NL)
DESCRIPTION:Théorie: rappel\, types d’effets\, protections.\nPratique: plusieurs effets parmi lesquels : rouille\, oxyde\, bois\, pierre\, moiré lissé… \nPrérequis: Mortex initiation \n
URL:https://bealinternational.com/fr/formation/mortex-effets-decoratifs-nl-18-04-2020/
LOCATION:BEAL (Fernelmont)\, Rue du Tronquoy\, 8\, Fernelmont\, Namur\, 5380\, Belgium
CATEGORIES:Mortex
ORGANIZER;CN="BEAL%20International":MAILTO:training@beal.be
GEO:50.5382149;4.9770825
X-APPLE-STRUCTURED-LOCATION;VALUE=URI;X-ADDRESS=BEAL (Fernelmont) Rue du Tronquoy 8 Fernelmont Namur 5380 Belgium;X-APPLE-RADIUS=500;X-TITLE=Rue du Tronquoy\, 8:geo:4.9770825,50.5382149
END:VEVENT
BEGIN:VEVENT
DTSTART;TZID=Europe/Brussels:20200420T090000
DTEND;TZID=Europe/Brussels:20200420T170000
DTSTAMP:20200421T150154
CREATED:20200207T154931Z
LAST-MODIFIED:20200402T132419Z
UID:18463-1587373200-1587402000@bealinternational.com
SUMMARY:BEALSTONE : spécialisation sols – 3 jours (NL)
DESCRIPTION:\nRéalisation complète d’un sol de 20m² en groupe restreint\, avec l’assistance et les conseils avisés d’un professionnel\nJour1: 17/04/20\nSéchage 48h pendant le weekend\nJour2: 20/04/20\nJour3: 21/04/20 \nPREREQUIS : Bealstone – Formation Générale \n\n  \n
URL:https://bealinternational.com/fr/formation/bealstone-specialisation-sols-3-jours-nl-07-02-2020/
LOCATION:BEAL (Fernelmont)\, Rue du Tronquoy\, 8\, Fernelmont\, Namur\, 5380\, Belgium
CATEGORIES:Bealstone
ORGANIZER;CN="BEAL%20International":MAILTO:training@beal.be
GEO:50.5382149;4.9770825
X-APPLE-STRUCTURED-LOCATION;VALUE=URI;X-ADDRESS=BEAL (Fernelmont) Rue du Tronquoy 8 Fernelmont Namur 5380 Belgium;X-APPLE-RADIUS=500;X-TITLE=Rue du Tronquoy\, 8:geo:4.9770825,50.5382149
END:VEVENT
BEGIN:VEVENT
DTSTART;TZID=Europe/Brussels:20200420T090000
DTEND;TZID=Europe/Brussels:20200422T170000
DTSTAMP:20200421T150154
CREATED:20200316T083637Z
LAST-MODIFIED:20200316T083638Z
UID:19201-1587373200-1587574800@bealinternational.com
SUMMARY:MORTEX FULL TRAINING (EN)
DESCRIPTION:Conditions spéciales pour les clients internationaux. Contactez training@beal.be. \n\nMORTEX SALLE D’EAU\n\nThéorie : rappel\, types de supports et préparation\, procédure d’installation\, protections et entretien.\nPratique : organisation du travail et mise en œuvre sur modules. \n\nMORTEX SOLS ET ESCALIERS\n\nThéorie : rappel\, types de supports et préparation\, procédure d’installation\, protections et entretien.\nPratique : organisation du travail et mise en œuvre sur modules. \n\nMORTEX DECO\nRepas du midi et un repas du soir compris.\n\n  \nhttps://youtu.be/vaQzJ74k5eA \n
URL:https://bealinternational.com/fr/formation/mortex-full-training-en-20-04-2020/
LOCATION:Beal\, Rue du Tronquoy 8\, FERNELEMONT\, NAMUR\, 5380\, Belgique
CATEGORIES:Mortex
ORGANIZER;CN="BEAL%20International":MAILTO:training@beal.be
END:VEVENT
BEGIN:VEVENT
DTSTART;TZID=Europe/Brussels:20200421T090000
DTEND;TZID=Europe/Brussels:20200421T170000
DTSTAMP:20200421T150154
CREATED:20200212T093640Z
LAST-MODIFIED:20200212T094114Z
UID:18496-1587459600-1587488400@bealinternational.com
SUMMARY:BEALSTONE : spécialisation sols – 3 jours (NL)
DESCRIPTION:Réalisation complète d’un sol de 20m² en groupe restreint\, avec l’assistance et les conseils avisés d’un professionnel\nJour1: 17/04/20\nSéchage 48h pendant le weekend\nJour2: 20/04/20\nJour3: 21/04/20 \nPREREQUIS : Bealstone – Formation Générale \n
URL:https://bealinternational.com/fr/formation/bealstone-specialisation-sols-3-jours-nl-21-04-2020/
LOCATION:BEAL (Fernelmont)\, Rue du Tronquoy\, 8\, Fernelmont\, Namur\, 5380\, Belgium
CATEGORIES:Bealstone
ORGANIZER;CN="BEAL%20International":MAILTO:training@beal.be
GEO:50.5382149;4.9770825
X-APPLE-STRUCTURED-LOCATION;VALUE=URI;X-ADDRESS=BEAL (Fernelmont) Rue du Tronquoy 8 Fernelmont Namur 5380 Belgium;X-APPLE-RADIUS=500;X-TITLE=Rue du Tronquoy\, 8:geo:4.9770825,50.5382149
END:VEVENT
BEGIN:VEVENT
DTSTART;TZID=Europe/Brussels:20200423T090000
DTEND;TZID=Europe/Brussels:20200423T170000
DTSTAMP:20200421T150154
CREATED:20200316T091258Z
LAST-MODIFIED:20200316T091346Z
UID:19218-1587632400-1587661200@bealinternational.com
SUMMARY:BEALSTONE : Initiation (EN)
DESCRIPTION:\nThéorie: présentation des produits de la gamme BEALSTONE\, théorie de base pour préparation chantier et supports. Règles de dosage et de mélange. Théorie de base de l’application et des protections.\nPratique: apprentissage de base des techniques de coulage\, de ponçage/bouche-porage/polissage et de protection avec machines à main. Réalisation d’un échantillon à emporter. \n\n  \n
URL:https://bealinternational.com/fr/formation/bealstone-initiation-en-23-04-2020-2/
LOCATION:Beal\, Rue du Tronquoy 8\, FERNELEMONT\, NAMUR\, 5380\, Belgique
CATEGORIES:Bealstone
ORGANIZER;CN="BEAL%20International":MAILTO:training@beal.be
END:VEVENT
BEGIN:VEVENT
DTSTART;TZID=Europe/Brussels:20200423T090000
DTEND;TZID=Europe/Brussels:20200423T170000
DTSTAMP:20200421T150154
CREATED:20200323T080000Z
LAST-MODIFIED:20200316T090719Z
UID:19206-1587632400-1587661200@bealinternational.com
SUMMARY:BEALSTONE : Initiation (EN)
DESCRIPTION:\nThéorie: présentation des produits de la gamme BEALSTONE\, théorie de base pour préparation chantier et supports. Règles de dosage et de mélange. Théorie de base de l’application et des protections.\nPratique: apprentissage de base des techniques de coulage\, de ponçage/bouche-porage/polissage et de protection avec machines à main. Réalisation d’un échantillon à emporter. \n\n  \n
URL:https://bealinternational.com/fr/formation/bealstone-initiation-en-23-04-2020/
LOCATION:BEAL (Fernelmont)\, Rue du Tronquoy\, 8\, Fernelmont\, Namur\, 5380\, Belgium
CATEGORIES:Bealstone
ORGANIZER;CN="BEAL%20International":MAILTO:training@beal.be
GEO:50.5382149;4.9770825
X-APPLE-STRUCTURED-LOCATION;VALUE=URI;X-ADDRESS=BEAL (Fernelmont) Rue du Tronquoy 8 Fernelmont Namur 5380 Belgium;X-APPLE-RADIUS=500;X-TITLE=Rue du Tronquoy\, 8:geo:4.9770825,50.5382149
END:VEVENT
BEGIN:VEVENT
DTSTART;TZID=Europe/Helsinki:20200424T090000
DTEND;TZID=Europe/Helsinki:20200424T170000
DTSTAMP:20200421T150154
CREATED:20190715T123747Z
LAST-MODIFIED:20200316T094014Z
UID:15036-1587718800-1587747600@bealinternational.com
SUMMARY:Bealstone: spécialisation sols - 3 jours (EN)
DESCRIPTION:Jour 1 \nRéalisation complète d’un sol de 20m² en groupe restreint\, avec l’assistance et les conseils avisés d’un professionnel\nJour1: 27/03/20\nSéchage 48h pendant le weekend\nJour2: 30/03/20\nJour3: 31/03/20\nPREREQUIS : Bealstone – Formation Générale \n \n
URL:https://bealinternational.com/fr/formation/bealstone-specialisation-sols-3-jours-en-24-04-2020-2/
LOCATION:BEAL (Fernelmont)\, Rue du Tronquoy\, 8\, Fernelmont\, Namur\, 5380\, Belgium
CATEGORIES:Bealstone
ORGANIZER;CN="BEAL%20International":MAILTO:training@beal.be
GEO:50.5382149;4.9770825
X-APPLE-STRUCTURED-LOCATION;VALUE=URI;X-ADDRESS=BEAL (Fernelmont) Rue du Tronquoy 8 Fernelmont Namur 5380 Belgium;X-APPLE-RADIUS=500;X-TITLE=Rue du Tronquoy\, 8:geo:4.9770825,50.5382149
END:VEVENT
BEGIN:VEVENT
DTSTART;TZID=Europe/Brussels:20200425T090000
DTEND;TZID=Europe/Brussels:20200425T170000
DTSTAMP:20200421T150154
CREATED:20200218T100519Z
LAST-MODIFIED:20200218T100843Z
UID:18692-1587805200-1587834000@bealinternational.com
SUMMARY:MORTEX : Initiation (FR)
DESCRIPTION:Théorie: présentation des produits de la gamme MORTEX\, théorie de base pour préparation chantier et supports. Règles de dosage et de mélange. Théorie de base de l’application et des protections.\nPratique: apprentissage des techniques “à Secco” et “à Fresco”\, technique du ferrage. Applications verticales et horizontales. Réalisation de plaques échantillons à emporter. \n
URL:https://bealinternational.com/fr/formation/mortex-initiation-fr-25-04-2020/
LOCATION:BEAL (Fernelmont)\, Rue du Tronquoy\, 8\, Fernelmont\, Namur\, 5380\, Belgium
CATEGORIES:Mortex
ORGANIZER;CN="BEAL%20International":MAILTO:training@beal.be
GEO:50.5382149;4.9770825
X-APPLE-STRUCTURED-LOCATION;VALUE=URI;X-ADDRESS=BEAL (Fernelmont) Rue du Tronquoy 8 Fernelmont Namur 5380 Belgium;X-APPLE-RADIUS=500;X-TITLE=Rue du Tronquoy\, 8:geo:4.9770825,50.5382149
END:VEVENT
BEGIN:VEVENT
DTSTART;TZID=Europe/Helsinki:20200427T090000
DTEND;TZID=Europe/Helsinki:20200428T170000
DTSTAMP:20200421T150154
CREATED:20190715T125200Z
LAST-MODIFIED:20200316T094118Z
UID:15057-1587978000-1588093200@bealinternational.com
SUMMARY:Bealstone: spécialisation sols - 3 jours (EN)
DESCRIPTION:Jour 2 et 3 \nRéalisation complète d’un sol de 20m² en groupe restreint\, avec l’assistance et les conseils avisés d’un professionnel\nJour1: 27/03/20\nSéchage 48h pendant le weekend\nJour2: 30/03/20\nJour3: 31/03/20\nPREREQUIS : Bealstone – Formation Générale \n  \n \n
URL:https://bealinternational.com/fr/formation/bealstone-specialisation-sols-3-jours-en-27-04-2020-2/
LOCATION:Beal\, Rue du Tronquoy 8\, FERNELEMONT\, NAMUR\, 5380\, Belgique
CATEGORIES:Bealstone
END:VEVENT
END:VCALENDAR