BEGIN:VCALENDAR
VERSION:2.0
PRODID:-//Beal International - ECPv5.0.3.1//NONSGML v1.0//EN
CALSCALE:GREGORIAN
METHOD:PUBLISH
X-WR-CALNAME:Beal International
X-ORIGINAL-URL:https://bealinternational.com
X-WR-CALDESC:Events for Beal International
BEGIN:VTIMEZONE
TZID:Europe/Brussels
BEGIN:DAYLIGHT
TZOFFSETFROM:+0100
TZOFFSETTO:+0200
TZNAME:CEST
DTSTART:20200329T010000
END:DAYLIGHT
BEGIN:STANDARD
TZOFFSETFROM:+0200
TZOFFSETTO:+0100
TZNAME:CET
DTSTART:20201025T010000
END:STANDARD
TZID:Europe/Helsinki
BEGIN:DAYLIGHT
TZOFFSETFROM:+0200
TZOFFSETTO:+0300
TZNAME:EEST
DTSTART:20200329T010000
END:DAYLIGHT
BEGIN:STANDARD
TZOFFSETFROM:+0300
TZOFFSETTO:+0200
TZNAME:EET
DTSTART:20201025T010000
END:STANDARD
END:VTIMEZONE
BEGIN:VEVENT
DTSTART;TZID=Europe/Brussels:20200403T090000
DTEND;TZID=Europe/Brussels:20200403T170000
DTSTAMP:20200421T150404
CREATED:20200123T133911Z
LAST-MODIFIED:20200316T074009Z
UID:18285-1585904400-1585933200@bealinternational.com
SUMMARY:GEANULEERD - Mortex: Initiatie (NL) Verschuere (Harelbeke)
DESCRIPTION:Theorie: voorstelling van het productgamma MORTEX\, basistheorie voor de voorbereiding van het werk en de ondergrond. Dosering en mengregels. Basistheorie voor de toepassing en de beschermingen.\nPraktijk: “a Secco” en “a Fresco” technieken\, met de plakspaan polijsten. Verticale en horizontale toepassingen. Realisatie van monsterplaten om mee te nemen. \n
URL:https://bealinternational.com/nl/opleidingen/geanuleerd-mortex-initiatie-nl-verschuere-harelbeke-03-04-2020/
LOCATION:Verschuere (Harelbeke)\, Overleiestraat 3\, Harelbeke\, 8530\, Belgique
CATEGORIES:Mortex
ORGANIZER;CN="BEAL%20International":MAILTO:training@beal.be
GEO:50.8577372;3.3091037
X-APPLE-STRUCTURED-LOCATION;VALUE=URI;X-ADDRESS=Verschuere (Harelbeke) Overleiestraat 3 Harelbeke 8530 Belgique;X-APPLE-RADIUS=500;X-TITLE=Overleiestraat 3:geo:3.3091037,50.8577372
END:VEVENT
BEGIN:VEVENT
DTSTART;TZID=Europe/Brussels:20200404T090000
DTEND;TZID=Europe/Brussels:20200404T170000
DTSTAMP:20200421T150404
CREATED:20200123T132710Z
LAST-MODIFIED:20200316T074139Z
UID:18279-1585990800-1586019600@bealinternational.com
SUMMARY:GEANULEERD - Mortex: Initiatie (NL) Verschuere (Harelbeke)
DESCRIPTION:Theorie: voorstelling van het productgamma MORTEX\, basistheorie voor de voorbereiding van het werk en de ondergrond. Dosering en mengregels. Basistheorie voor de toepassing en de beschermingen.\nPraktijk: “a Secco” en “a Fresco” technieken\, met de plakspaan polijsten. Verticale en horizontale toepassingen. Realisatie van monsterplaten om mee te nemen. \n
URL:https://bealinternational.com/nl/opleidingen/mortex-initiatie-nl-verschuere-harelbeke-04-04-2020/
LOCATION:Verschuere (Harelbeke)\, Overleiestraat 3\, Harelbeke\, 8530\, Belgique
CATEGORIES:Mortex
ORGANIZER;CN="BEAL%20International":MAILTO:training@beal.be
GEO:50.8577372;3.3091037
X-APPLE-STRUCTURED-LOCATION;VALUE=URI;X-ADDRESS=Verschuere (Harelbeke) Overleiestraat 3 Harelbeke 8530 Belgique;X-APPLE-RADIUS=500;X-TITLE=Overleiestraat 3:geo:3.3091037,50.8577372
END:VEVENT
BEGIN:VEVENT
DTSTART;TZID=Europe/Helsinki:20200407T090000
DTEND;TZID=Europe/Helsinki:20200407T170000
DTSTAMP:20200421T150404
CREATED:20190218T105316Z
LAST-MODIFIED:20200402T133128Z
UID:13001-1586250000-1586278800@bealinternational.com
SUMMARY:GEANULEERD - MORTEX : Initiatie (FR) - FULL - COMPLETE - VOLZET
DESCRIPTION:Theorie: voorstelling van het productgamma MORTEX\, basistheorie voor de voorbereiding van het werk en de ondergrond. Dosering en mengregels. Basistheorie voor de toepassing en de beschermingen.\nPraktijk: “a Secco” en “a Fresco” technieken\, met de plakspaan polijsten. Verticale en horizontale toepassingen. Realisatie van monsterplaten om mee te nemen. \n
URL:https://bealinternational.com/nl/opleidingen/geanuleerd-mortex-initiatie-fr-full-complete-volzet-07-04-2020/
LOCATION:NAMUR
CATEGORIES:Mortex
ORGANIZER;CN="BEAL%20International":MAILTO:training@beal.be
END:VEVENT
BEGIN:VEVENT
DTSTART;TZID=Europe/Helsinki:20200408T090000
DTEND;TZID=Europe/Helsinki:20200408T170000
DTSTAMP:20200421T150404
CREATED:20190219T141840Z
LAST-MODIFIED:20200402T133056Z
UID:13137-1586336400-1586365200@bealinternational.com
SUMMARY:GEANULEERD - MORTEX : Natte ruimtes (FR)
DESCRIPTION:Theorie: herinnering\, types ondergrond en voorbereiding\, uitvoeringsproces\, beschermingen en onderhoud.\nPraktijk: werkorganisatie en uitvoering op modules. \nVOORWAARDEN: MORTEX initiatie \n
URL:https://bealinternational.com/nl/opleidingen/geanuleerd-mortex-natte-ruimtes-fr-08-04-2020/
LOCATION:NAMUR
CATEGORIES:Mortex
ORGANIZER;CN="BEAL%20International":MAILTO:training@beal.be
END:VEVENT
BEGIN:VEVENT
DTSTART;TZID=Europe/Helsinki:20200409T090000
DTEND;TZID=Europe/Helsinki:20200409T170000
DTSTAMP:20200421T150404
CREATED:20190219T141109Z
LAST-MODIFIED:20200402T133030Z
UID:13125-1586422800-1586451600@bealinternational.com
SUMMARY:GEANULEERD - MORTEX : Decoratieve effecten (FR)
DESCRIPTION:Theorie: herinnering\, types effect\, beschermingen.\nPraktijk: verschillende effecten waaronder: roest\, oxide\, hout\, steen\, glad moirépatroon… \nVOORWAARDEN: MORTEX initiatie \n
URL:https://bealinternational.com/nl/opleidingen/geanuleerd-mortex-decoratieve-effecten-fr-09-04-2020/
LOCATION:NAMUR
CATEGORIES:Mortex
ORGANIZER;CN="BEAL%20International":MAILTO:training@beal.be
END:VEVENT
BEGIN:VEVENT
DTSTART;TZID=Europe/Brussels:20200416T090000
DTEND;TZID=Europe/Brussels:20200416T170000
DTSTAMP:20200421T150404
CREATED:20200207T152638Z
LAST-MODIFIED:20200402T133002Z
UID:18448-1587027600-1587056400@bealinternational.com
SUMMARY:GEANULEERD - BEALSTONE : Initiatie (NL)
DESCRIPTION:Theorie: voorbereiding van een werk\, uitvoering\, schuur- en polijsttechnieken\, beschermingen en onderhoud.\nPraktijk: schuren en polijsten op monster en grond. \n
URL:https://bealinternational.com/nl/opleidingen/geanuleerd-bealstone-initiatie-nl-16-04-2020/
LOCATION:NAMUR
CATEGORIES:Bealstone
ORGANIZER;CN="BEAL%20International":MAILTO:training@beal.be
END:VEVENT
BEGIN:VEVENT
DTSTART;TZID=Europe/Brussels:20200417T080000
DTEND;TZID=Europe/Brussels:20200417T170000
DTSTAMP:20200421T150404
CREATED:20200207T153233Z
LAST-MODIFIED:20200402T132937Z
UID:18458-1587110400-1587142800@bealinternational.com
SUMMARY:GEANULEERD - BEALSTONE : Vloeren – 3 dagen (NL)
DESCRIPTION:Volledig realisatie van een vloer van 20m²\, in kleine groep met de bijstand en het advies van een vakman. \nDag 1: 17/04/20\nDag 2: 20/04/20\nDroogproces (48u) tijdens het weekend\nDag 3: 21/04/20 \nVOORWAARDEN : Bealstone – Algemene opleiding \n
URL:https://bealinternational.com/nl/opleidingen/geanuleerd-bealstone-vloeren-3-dagen-nl-17-04-2020/
LOCATION:NAMUR
CATEGORIES:Bealstone
ORGANIZER;CN="BEAL%20International":MAILTO:training@beal.be
END:VEVENT
BEGIN:VEVENT
DTSTART;TZID=Europe/Helsinki:20200418T090000
DTEND;TZID=Europe/Helsinki:20200418T160000
DTSTAMP:20200421T150404
CREATED:20180713T094517Z
LAST-MODIFIED:20200402T132852Z
UID:10733-1587200400-1587225600@bealinternational.com
SUMMARY:GEANULEERD - Mortex : Decoratieve effecten (NL)
DESCRIPTION:Theorie: herinnering\, types effect\, beschermingen.\nPraktijk: verschillende effecten waaronder: roest\, oxide\, hout\, steen\, glad moirépatroon… \nVOORWAARDEN: Mortex initiatie \n
URL:https://bealinternational.com/nl/opleidingen/geanuleerd-mortex-decoratieve-effecten-nl-18-04-2020/
LOCATION:NAMUR
CATEGORIES:Mortex
ORGANIZER;CN="BEAL%20International":MAILTO:training@beal.be
END:VEVENT
BEGIN:VEVENT
DTSTART;TZID=Europe/Brussels:20200420T090000
DTEND;TZID=Europe/Brussels:20200420T170000
DTSTAMP:20200421T150404
CREATED:20200207T154931Z
LAST-MODIFIED:20200207T154932Z
UID:18464-1587373200-1587402000@bealinternational.com
SUMMARY:BEALSTONE : Vloeren – 3 dagen (NL)
DESCRIPTION:Volledig realisatie van een vloer van 20m²\, in kleine groep met de bijstand en het advies van een vakman. \nDag 1: 17/04/20\nDag 2: 20/04/20\nDroogproces (48u) tijdens het weekend\nDag 3: 21/04/20 \nVOORWAARDEN : Bealstone – Algemene opleiding \n
URL:https://bealinternational.com/nl/opleidingen/bealstone-vloeren-3-dagen-nl-20-04-2020/
LOCATION:NAMUR
CATEGORIES:Bealstone
ORGANIZER;CN="BEAL%20International":MAILTO:training@beal.be
END:VEVENT
BEGIN:VEVENT
DTSTART;TZID=Europe/Brussels:20200421T090000
DTEND;TZID=Europe/Brussels:20200421T170000
DTSTAMP:20200421T150404
CREATED:20200212T093640Z
LAST-MODIFIED:20200212T094148Z
UID:18498-1587459600-1587488400@bealinternational.com
SUMMARY:BEALSTONE : Vloeren – 3 dagen (NL)
DESCRIPTION:Volledig realisatie van een vloer van 20m²\, in kleine groep met de bijstand en het advies van een vakman. \nDag 1: 17/04/20\nDag 2: 20/04/20\nDroogproces (48u) tijdens het weekend\nDag 3: 21/04/20 \nVOORWAARDEN : Bealstone – Algemene opleiding \n
URL:https://bealinternational.com/nl/opleidingen/bealstone-vloeren-3-dagen-nl-21-04-2020/
LOCATION:NAMUR
CATEGORIES:Bealstone
ORGANIZER;CN="BEAL%20International":MAILTO:training@beal.be
END:VEVENT
BEGIN:VEVENT
DTSTART;TZID=Europe/Helsinki:20200423T090000
DTEND;TZID=Europe/Helsinki:20200423T170000
DTSTAMP:20200421T150404
CREATED:20190715T122635Z
LAST-MODIFIED:20200316T093632Z
UID:15022-1587632400-1587661200@bealinternational.com
SUMMARY:BEALSTONE : Initiatie (EN)
DESCRIPTION:Theorie: voorbereiding van een werk\, uitvoering\, schuur- en polijsttechnieken\, beschermingen en onderhoud.\nPraktijk: schuren en polijsten op monster en grond. \n \n
URL:https://bealinternational.com/nl/opleidingen/bealstone-initiatie-en-23-04-2020/
LOCATION:NAMUR
CATEGORIES:Bealstone
END:VEVENT
BEGIN:VEVENT
DTSTART;TZID=Europe/Helsinki:20200424T090000
DTEND;TZID=Europe/Helsinki:20200424T170000
DTSTAMP:20200421T150404
CREATED:20190715T123747Z
LAST-MODIFIED:20200316T093751Z
UID:15043-1587718800-1587747600@bealinternational.com
SUMMARY:Bealstone: Vloeren - 3 Dagen (EN)
DESCRIPTION:Dag 1 \nVolledig realisatie van een vloer van 20m²\, in kleine groep met de bijstand en het advies van een vakman.\nDag 1: 27/03/20\nDag 2: 30/03/20\nDroogproces (48u) tijdens het weekend\nDag 3: 31/03/20\nVOORWAARDEN : Bealstone – Algemene opleiding \n \n
URL:https://bealinternational.com/nl/opleidingen/bealstone-vloeren-3-dagen-en-24-04-2020/
LOCATION:NAMUR
CATEGORIES:Bealstone
ORGANIZER;CN="BEAL%20International":MAILTO:training@beal.be
END:VEVENT
BEGIN:VEVENT
DTSTART;TZID=Europe/Brussels:20200425T090000
DTEND;TZID=Europe/Brussels:20200425T170000
DTSTAMP:20200421T150404
CREATED:20200218T100519Z
LAST-MODIFIED:20200218T101024Z
UID:18694-1587805200-1587834000@bealinternational.com
SUMMARY:MORTEX : Initiatie (FR)
DESCRIPTION:Theorie: voorstelling van het productgamma MORTEX\, basistheorie voor de voorbereiding van het werk en de ondergrond. Dosering en mengregels. Basistheorie voor de toepassing en de beschermingen.\nPraktijk: “a Secco” en “a Fresco” technieken\, met de plakspaan polijsten. Verticale en horizontale toepassingen. Realisatie van monsterplaten om mee te nemen. \n
URL:https://bealinternational.com/nl/opleidingen/mortex-initiatie-fr-25-04-2020/
LOCATION:NAMUR
CATEGORIES:Mortex
ORGANIZER;CN="BEAL%20International":MAILTO:training@beal.be
END:VEVENT
BEGIN:VEVENT
DTSTART;TZID=Europe/Helsinki:20200427T090000
DTEND;TZID=Europe/Helsinki:20200428T170000
DTSTAMP:20200421T150404
CREATED:20190715T125200Z
LAST-MODIFIED:20200316T094057Z
UID:15060-1587978000-1588093200@bealinternational.com
SUMMARY:Bealstone: Vloeren - 3 Dagen (EN)
DESCRIPTION:Dagen 2 en 3 \nVolledig realisatie van een vloer van 20m²\, in kleine groep met de bijstand en het advies van een vakman.\nDag 1: 27/03/20\nDag 2: 30/03/20\nDroogproces (48u) tijdens het weekend\nDag 3: 31/03/20\nVOORWAARDEN : Bealstone – Algemene opleiding \n \n
URL:https://bealinternational.com/nl/opleidingen/bealstone-vloeren-3-dagen-en-27-04-2020/
LOCATION:Beal\, Rue du Tronquoy 8\, FERNELEMONT\, NAMUR\, 5380\, Belgique
CATEGORIES:Bealstone
GEO:50.5381168;4.9774975
X-APPLE-STRUCTURED-LOCATION;VALUE=URI;X-ADDRESS=Beal Rue du Tronquoy 8 FERNELEMONT NAMUR 5380 Belgique;X-APPLE-RADIUS=500;X-TITLE=Rue du Tronquoy 8:geo:4.9774975,50.5381168
END:VEVENT
END:VCALENDAR